BEGIN:VCALENDAR
VERSION:2.0
PRODID:-//Lahden Suunnistajat -37 - ECPv6.15.20//NONSGML v1.0//EN
CALSCALE:GREGORIAN
METHOD:PUBLISH
X-WR-CALNAME:Lahden Suunnistajat -37
X-ORIGINAL-URL:https://www.ls37.fi
X-WR-CALDESC:Tapahtumat Lahden Suunnistajat -37
REFRESH-INTERVAL;VALUE=DURATION:PT1H
X-Robots-Tag:noindex
X-PUBLISHED-TTL:PT1H
BEGIN:VTIMEZONE
TZID:Europe/Helsinki
BEGIN:DAYLIGHT
TZOFFSETFROM:+0200
TZOFFSETTO:+0300
TZNAME:EEST
DTSTART:20250330T010000
END:DAYLIGHT
BEGIN:STANDARD
TZOFFSETFROM:+0300
TZOFFSETTO:+0200
TZNAME:EET
DTSTART:20251026T010000
END:STANDARD
BEGIN:DAYLIGHT
TZOFFSETFROM:+0200
TZOFFSETTO:+0300
TZNAME:EEST
DTSTART:20260329T010000
END:DAYLIGHT
BEGIN:STANDARD
TZOFFSETFROM:+0300
TZOFFSETTO:+0200
TZNAME:EET
DTSTART:20261025T010000
END:STANDARD
BEGIN:DAYLIGHT
TZOFFSETFROM:+0200
TZOFFSETTO:+0300
TZNAME:EEST
DTSTART:20270328T010000
END:DAYLIGHT
BEGIN:STANDARD
TZOFFSETFROM:+0300
TZOFFSETTO:+0200
TZNAME:EET
DTSTART:20271031T010000
END:STANDARD
END:VTIMEZONE
BEGIN:VEVENT
DTSTART;TZID=Europe/Helsinki:20260508T173000
DTEND;TZID=Europe/Helsinki:20260508T190000
DTSTAMP:20260421T162136
CREATED:20251219T112111Z
LAST-MODIFIED:20260413T075931Z
UID:10007217-1778261400-1778266800@www.ls37.fi
SUMMARY:LS-Taito - Sprinttitreeni
DESCRIPTION:Katselmus toteutettu ja lauantaina aikailla sulalla pääsee sprinttaamaan. \nOhjelmassa: 2*~1\,5km sprintti + 5-8*300m mäkeen. \nKokoontuminen kello 10.00 täällä
URL:https://www.ls37.fi/tapahtuma/ls-taito-sprinttitreeni/2026-05-08/
CATEGORIES:Taitoharjoitus
END:VEVENT
BEGIN:VEVENT
DTSTART;TZID=Europe/Helsinki:20260513T173000
DTEND;TZID=Europe/Helsinki:20260513T190000
DTSTAMP:20260421T162136
CREATED:20251219T112111Z
LAST-MODIFIED:20260413T075931Z
UID:10006767-1778693400-1778698800@www.ls37.fi
SUMMARY:LS-Taito - Sprinttitreeni
DESCRIPTION:Katselmus toteutettu ja lauantaina aikailla sulalla pääsee sprinttaamaan. \nOhjelmassa: 2*~1\,5km sprintti + 5-8*300m mäkeen. \nKokoontuminen kello 10.00 täällä
URL:https://www.ls37.fi/tapahtuma/ls-taito-sprinttitreeni/2026-05-13/
CATEGORIES:Taitoharjoitus
END:VEVENT
END:VCALENDAR