BEGIN:VCALENDAR
VERSION:2.0
PRODID:-//Lahden Suunnistajat -37 - ECPv6.15.20//NONSGML v1.0//EN
CALSCALE:GREGORIAN
METHOD:PUBLISH
X-WR-CALNAME:Lahden Suunnistajat -37
X-ORIGINAL-URL:https://www.ls37.fi
X-WR-CALDESC:Tapahtumat Lahden Suunnistajat -37
REFRESH-INTERVAL;VALUE=DURATION:PT1H
X-Robots-Tag:noindex
X-PUBLISHED-TTL:PT1H
BEGIN:VTIMEZONE
TZID:Europe/Helsinki
BEGIN:DAYLIGHT
TZOFFSETFROM:+0200
TZOFFSETTO:+0300
TZNAME:EEST
DTSTART:20250330T010000
END:DAYLIGHT
BEGIN:STANDARD
TZOFFSETFROM:+0300
TZOFFSETTO:+0200
TZNAME:EET
DTSTART:20251026T010000
END:STANDARD
BEGIN:DAYLIGHT
TZOFFSETFROM:+0200
TZOFFSETTO:+0300
TZNAME:EEST
DTSTART:20260329T010000
END:DAYLIGHT
BEGIN:STANDARD
TZOFFSETFROM:+0300
TZOFFSETTO:+0200
TZNAME:EET
DTSTART:20261025T010000
END:STANDARD
BEGIN:DAYLIGHT
TZOFFSETFROM:+0200
TZOFFSETTO:+0300
TZNAME:EEST
DTSTART:20270328T010000
END:DAYLIGHT
BEGIN:STANDARD
TZOFFSETFROM:+0300
TZOFFSETTO:+0200
TZNAME:EET
DTSTART:20271031T010000
END:STANDARD
END:VTIMEZONE
BEGIN:VEVENT
DTSTART;TZID=Europe/Helsinki:20260421T080000
DTEND;TZID=Europe/Helsinki:20260421T093000
DTSTAMP:20260420T075708
CREATED:20250930T102028Z
LAST-MODIFIED:20250930T102827Z
UID:10006463-1776758400-1776763800@www.ls37.fi
SUMMARY:Lukion aamutreenit
DESCRIPTION:
URL:https://www.ls37.fi/tapahtuma/lukion-aamutreenit/2026-04-21/
CATEGORIES:Fysiikkaharjoitus
END:VEVENT
BEGIN:VEVENT
DTSTART;TZID=Europe/Helsinki:20260423T080000
DTEND;TZID=Europe/Helsinki:20260423T093000
DTSTAMP:20260420T075708
CREATED:20250930T102028Z
LAST-MODIFIED:20250930T102827Z
UID:10006465-1776931200-1776936600@www.ls37.fi
SUMMARY:Lukion aamutreenit
DESCRIPTION:
URL:https://www.ls37.fi/tapahtuma/lukion-aamutreenit/2026-04-23/
CATEGORIES:Fysiikkaharjoitus
END:VEVENT
BEGIN:VEVENT
DTSTART;TZID=Europe/Helsinki:20260428T080000
DTEND;TZID=Europe/Helsinki:20260428T093000
DTSTAMP:20260420T075708
CREATED:20250930T102028Z
LAST-MODIFIED:20250930T102827Z
UID:10006467-1777363200-1777368600@www.ls37.fi
SUMMARY:Lukion aamutreenit
DESCRIPTION:
URL:https://www.ls37.fi/tapahtuma/lukion-aamutreenit/2026-04-28/
CATEGORIES:Fysiikkaharjoitus
END:VEVENT
BEGIN:VEVENT
DTSTART;TZID=Europe/Helsinki:20260430T080000
DTEND;TZID=Europe/Helsinki:20260430T093000
DTSTAMP:20260420T075708
CREATED:20250930T102028Z
LAST-MODIFIED:20250930T102827Z
UID:10006469-1777536000-1777541400@www.ls37.fi
SUMMARY:Lukion aamutreenit
DESCRIPTION:
URL:https://www.ls37.fi/tapahtuma/lukion-aamutreenit/2026-04-30/
CATEGORIES:Fysiikkaharjoitus
END:VEVENT
BEGIN:VEVENT
DTSTART;TZID=Europe/Helsinki:20260505T080000
DTEND;TZID=Europe/Helsinki:20260505T093000
DTSTAMP:20260420T075708
CREATED:20250930T102028Z
LAST-MODIFIED:20250930T102827Z
UID:10006471-1777968000-1777973400@www.ls37.fi
SUMMARY:Lukion aamutreenit
DESCRIPTION:
URL:https://www.ls37.fi/tapahtuma/lukion-aamutreenit/2026-05-05/
CATEGORIES:Fysiikkaharjoitus
END:VEVENT
BEGIN:VEVENT
DTSTART;TZID=Europe/Helsinki:20260507T080000
DTEND;TZID=Europe/Helsinki:20260507T093000
DTSTAMP:20260420T075708
CREATED:20250930T102028Z
LAST-MODIFIED:20250930T102827Z
UID:10006473-1778140800-1778146200@www.ls37.fi
SUMMARY:Lukion aamutreenit
DESCRIPTION:
URL:https://www.ls37.fi/tapahtuma/lukion-aamutreenit/2026-05-07/
CATEGORIES:Fysiikkaharjoitus
END:VEVENT
BEGIN:VEVENT
DTSTART;TZID=Europe/Helsinki:20260512T080000
DTEND;TZID=Europe/Helsinki:20260512T093000
DTSTAMP:20260420T075708
CREATED:20250930T102028Z
LAST-MODIFIED:20250930T102827Z
UID:10006475-1778572800-1778578200@www.ls37.fi
SUMMARY:Lukion aamutreenit
DESCRIPTION:
URL:https://www.ls37.fi/tapahtuma/lukion-aamutreenit/2026-05-12/
CATEGORIES:Fysiikkaharjoitus
END:VEVENT
BEGIN:VEVENT
DTSTART;TZID=Europe/Helsinki:20260519T080000
DTEND;TZID=Europe/Helsinki:20260519T093000
DTSTAMP:20260420T075708
CREATED:20250930T102028Z
LAST-MODIFIED:20250930T102827Z
UID:10006477-1779177600-1779183000@www.ls37.fi
SUMMARY:Lukion aamutreenit
DESCRIPTION:
URL:https://www.ls37.fi/tapahtuma/lukion-aamutreenit/2026-05-19/
CATEGORIES:Fysiikkaharjoitus
END:VEVENT
BEGIN:VEVENT
DTSTART;TZID=Europe/Helsinki:20260521T080000
DTEND;TZID=Europe/Helsinki:20260521T093000
DTSTAMP:20260420T075708
CREATED:20250930T102028Z
LAST-MODIFIED:20250930T102827Z
UID:10006479-1779350400-1779355800@www.ls37.fi
SUMMARY:Lukion aamutreenit
DESCRIPTION:
URL:https://www.ls37.fi/tapahtuma/lukion-aamutreenit/2026-05-21/
CATEGORIES:Fysiikkaharjoitus
END:VEVENT
END:VCALENDAR