BEGIN:VCALENDAR
VERSION:2.0
PRODID:-//Lahden Suunnistajat -37 - ECPv6.15.20//NONSGML v1.0//EN
CALSCALE:GREGORIAN
METHOD:PUBLISH
X-WR-CALNAME:Lahden Suunnistajat -37
X-ORIGINAL-URL:https://www.ls37.fi
X-WR-CALDESC:Tapahtumat Lahden Suunnistajat -37
REFRESH-INTERVAL;VALUE=DURATION:PT1H
X-Robots-Tag:noindex
X-PUBLISHED-TTL:PT1H
BEGIN:VTIMEZONE
TZID:Europe/Helsinki
BEGIN:DAYLIGHT
TZOFFSETFROM:+0200
TZOFFSETTO:+0300
TZNAME:EEST
DTSTART:20250330T010000
END:DAYLIGHT
BEGIN:STANDARD
TZOFFSETFROM:+0300
TZOFFSETTO:+0200
TZNAME:EET
DTSTART:20251026T010000
END:STANDARD
BEGIN:DAYLIGHT
TZOFFSETFROM:+0200
TZOFFSETTO:+0300
TZNAME:EEST
DTSTART:20260329T010000
END:DAYLIGHT
BEGIN:STANDARD
TZOFFSETFROM:+0300
TZOFFSETTO:+0200
TZNAME:EET
DTSTART:20261025T010000
END:STANDARD
BEGIN:DAYLIGHT
TZOFFSETFROM:+0200
TZOFFSETTO:+0300
TZNAME:EEST
DTSTART:20270328T010000
END:DAYLIGHT
BEGIN:STANDARD
TZOFFSETFROM:+0300
TZOFFSETTO:+0200
TZNAME:EET
DTSTART:20271031T010000
END:STANDARD
END:VTIMEZONE
BEGIN:VEVENT
DTSTART;VALUE=DATE:20260424
DTEND;VALUE=DATE:20260427
DTSTAMP:20260424T012845
CREATED:20251219T115124Z
LAST-MODIFIED:20260410T085231Z
UID:10006779-1776988800-1777247999@www.ls37.fi
SUMMARY:Finnish spring
DESCRIPTION:Ilmoittautumiset majoitukseen 14.4 mennessä suomisportiin. Ilmoittautumisen yhteydessä ilmoita. \n\nMajoitutko Pe-La\, La-Su vai Pe-Su\nHaluatko aamupalan\n\n  \nMajoituksen hinta \nPe-la 25€ / hlö (maks 16 hlö) + halutessa aamupala 10€ / hlö. \nLa-su 43€ / hlö (maks 27 hlö) + halutessa aamupala 10€ / hlö. \nSeura maksaa aikuisten ja nuorten viestiliigaan osallistujien majoituksen (ei aamupalaa) La-Su yöltä. \n  \nInfot \nLakanat ja pyykeet sisältyy hintaan \nLisätiedot: http://www.ruukkikyla.fi/ \nOsote: Hamarijärventie 62\n25570 Teijo (noin 25min ajomatka kisakeskukseen.
URL:https://www.ls37.fi/tapahtuma/finnish-spring/
CATEGORIES:Kilpailut
END:VEVENT
END:VCALENDAR