BEGIN:VCALENDAR
VERSION:2.0
PRODID:-//Lahden Suunnistajat -37 - ECPv6.15.20//NONSGML v1.0//EN
CALSCALE:GREGORIAN
METHOD:PUBLISH
X-WR-CALNAME:Lahden Suunnistajat -37
X-ORIGINAL-URL:https://www.ls37.fi
X-WR-CALDESC:Tapahtumat Lahden Suunnistajat -37
REFRESH-INTERVAL;VALUE=DURATION:PT1H
X-Robots-Tag:noindex
X-PUBLISHED-TTL:PT1H
BEGIN:VTIMEZONE
TZID:Europe/Helsinki
BEGIN:DAYLIGHT
TZOFFSETFROM:+0200
TZOFFSETTO:+0300
TZNAME:EEST
DTSTART:20250330T010000
END:DAYLIGHT
BEGIN:STANDARD
TZOFFSETFROM:+0300
TZOFFSETTO:+0200
TZNAME:EET
DTSTART:20251026T010000
END:STANDARD
BEGIN:DAYLIGHT
TZOFFSETFROM:+0200
TZOFFSETTO:+0300
TZNAME:EEST
DTSTART:20260329T010000
END:DAYLIGHT
BEGIN:STANDARD
TZOFFSETFROM:+0300
TZOFFSETTO:+0200
TZNAME:EET
DTSTART:20261025T010000
END:STANDARD
BEGIN:DAYLIGHT
TZOFFSETFROM:+0200
TZOFFSETTO:+0300
TZNAME:EEST
DTSTART:20270328T010000
END:DAYLIGHT
BEGIN:STANDARD
TZOFFSETFROM:+0300
TZOFFSETTO:+0200
TZNAME:EET
DTSTART:20271031T010000
END:STANDARD
END:VTIMEZONE
BEGIN:VEVENT
DTSTART;TZID=Europe/Helsinki:20260421T080000
DTEND;TZID=Europe/Helsinki:20260421T093000
DTSTAMP:20260421T130546
CREATED:20250930T102028Z
LAST-MODIFIED:20250930T102827Z
UID:10006463-1776758400-1776763800@www.ls37.fi
SUMMARY:Lukion aamutreenit
DESCRIPTION:
URL:https://www.ls37.fi/tapahtuma/lukion-aamutreenit/2026-04-21/
CATEGORIES:Fysiikkaharjoitus
END:VEVENT
BEGIN:VEVENT
DTSTART;TZID=Europe/Helsinki:20260421T170000
DTEND;TZID=Europe/Helsinki:20260421T183000
DTSTAMP:20260421T130546
CREATED:20260327T080739Z
LAST-MODIFIED:20260419T152821Z
UID:10006989-1776790800-1776796200@www.ls37.fi
SUMMARY:Hippo-perheseikkailu
DESCRIPTION:Tervetuloa Hippo-perheseikkailuun! \nPvm: 21.4.2026\nKlo: 17-18.30\nPaikka: Lahden urheilukeskus \nHippo-perheseikkailu sisältää kolme hauskaa puuhapistettä: Hillen karttamerkkipeli\, Hannan mysteerisuunnistus ja Henrin leimausrata. Perheet kiertävät pisteillä omaan tahtiin. Perheseikkailu on suunnattu noin alle 10-vuotiaille. Samana iltana urheilukeskuksessa järjestetään iltarastit sekä nuorille suunnattu Kadonnut suunta -tapahtuma. \nHippo-perheseikkailu tarjoaa mahdollisuuden tutustua koko perheen voimin suunnistukseen kolmen hauskan puuhapisteen kautta. Puuhapisteinä ovat Hillen karttamerkkipeli\, Hannan mysteerisuunnistus ja Henrin leimausrata. Tapahtuman aikana on mahdollisuus vapaasti kiertää puuhapisteillä omaan tahtiin. Tapahtuma on maksuton eikä siihen tarvitse ilmoittautua erikseen. \nHippo-perheseikkailu toteutetaan yhteistyössä OP Pohjolan\, Suomen Suunnistusliiton ja paikallisen suunnistusseuran kanssa. \nTervetuloa seikkailemaan suunnistuksen maailmaan!
URL:https://www.ls37.fi/tapahtuma/hippo-perheseikkailu-3/
LOCATION:Urheilukeskus\, Lahden Urheilukeskus\, Salpausselänkatu 8\, Lahti
CATEGORIES:Lapset,LSK
ATTACH;FMTTYPE=image/png:https://www.ls37.fi/wp-content/uploads/2026/03/perheseikkailu.png
END:VEVENT
BEGIN:VEVENT
DTSTART;TZID=Europe/Helsinki:20260421T170000
DTEND;TZID=Europe/Helsinki:20260421T190000
DTSTAMP:20260421T130546
CREATED:20260406T103019Z
LAST-MODIFIED:20260418T111755Z
UID:10007117-1776790800-1776798000@www.ls37.fi
SUMMARY:Nuorten Kadonnut suunta-suunnistusseikkailu
DESCRIPTION:🌲 Nuorten Kadonnut suunta-suunnistusseikkailu \n👥 Nuorille (n. 12–18 v) \n👉 Helppo tapa tutustua suunnistukseen \n👉 Sopii myös jo harrastaville \n👉 Ei suorituspaineita – vain seikkailua \n👉Et tarvitse aiempaa kokemusta. \nKartta käteen ja matkaan!
URL:https://www.ls37.fi/tapahtuma/nuorten-kadonnut-suunta-suunnistusseikkailu/
LOCATION:Lahden urheilukeskus
CATEGORIES:Iltarastit,Nuoret
END:VEVENT
BEGIN:VEVENT
DTSTART;TZID=Europe/Helsinki:20260421T173000
DTEND;TZID=Europe/Helsinki:20260421T190000
DTSTAMP:20260421T130546
CREATED:20260406T121008Z
LAST-MODIFIED:20260413T082425Z
UID:10007123-1776792600-1776798000@www.ls37.fi
SUMMARY:LS-Taito
DESCRIPTION:LS-Taito on erikseen seuran valmennusryhmille suunnattu harjoitus. Kauden tärkeimpiin kisoihin sekä taidon yleiseen kehittämiseen suunnitellusti. Harjoitus sisältää valmennuksen ja harjoitusta varten suunnitellun taito-osuuden (viestiharjoitusta\, käyrää yms.). \nIltarastien yhteydessä järjestettävät harjoitukset normaalilla iltarastimaksu käytänteillä. Muut iltarastien ulkopuolella toimivat harjoitukset ilmaisia seuran valmennusryhmäläisille (Edustus\, Tsempit Pro\, Tsempit Kilpa\, Tsempit Harraste\, Aktiivit) \n\n7.4. Sprintti-iltarastit\, Ankkuri\n14.4 Sprintti-iltarastit\, Asemantausta\n21.4 Viestiharjoitus\, Urheilukeskus\n28.4 Sprintti-iltarastit\, Salpakangas\n5.5 Sprintti-iltarastit\, Länsiharju\n8.5 Sprintin valmistava\, Ankkuri\n13.5 Knockout-valmistava\, Mukkula?\n26.5 Viestiharjoitus\, Keisarsuo\n2.6 Vaativa taito\, Soltinjärvi\n9.6 Jukola-harjoitus\, Pajulahti\n16.6 Vaativa taito\, Hälvälä\n23.6 Vaativa taito\, Tiirismaa
URL:https://www.ls37.fi/tapahtuma/ls-taito-8/2026-04-21/
END:VEVENT
END:VCALENDAR