BEGIN:VCALENDAR
VERSION:2.0
PRODID:-//Lahden Suunnistajat -37 - ECPv6.15.20//NONSGML v1.0//EN
CALSCALE:GREGORIAN
METHOD:PUBLISH
X-WR-CALNAME:Lahden Suunnistajat -37
X-ORIGINAL-URL:https://www.ls37.fi
X-WR-CALDESC:Tapahtumat Lahden Suunnistajat -37
REFRESH-INTERVAL;VALUE=DURATION:PT1H
X-Robots-Tag:noindex
X-PUBLISHED-TTL:PT1H
BEGIN:VTIMEZONE
TZID:Europe/Helsinki
BEGIN:DAYLIGHT
TZOFFSETFROM:+0200
TZOFFSETTO:+0300
TZNAME:EEST
DTSTART:20190331T010000
END:DAYLIGHT
BEGIN:STANDARD
TZOFFSETFROM:+0300
TZOFFSETTO:+0200
TZNAME:EET
DTSTART:20191027T010000
END:STANDARD
BEGIN:DAYLIGHT
TZOFFSETFROM:+0200
TZOFFSETTO:+0300
TZNAME:EEST
DTSTART:20200329T010000
END:DAYLIGHT
BEGIN:STANDARD
TZOFFSETFROM:+0300
TZOFFSETTO:+0200
TZNAME:EET
DTSTART:20201025T010000
END:STANDARD
BEGIN:DAYLIGHT
TZOFFSETFROM:+0200
TZOFFSETTO:+0300
TZNAME:EEST
DTSTART:20210328T010000
END:DAYLIGHT
BEGIN:STANDARD
TZOFFSETFROM:+0300
TZOFFSETTO:+0200
TZNAME:EET
DTSTART:20211031T010000
END:STANDARD
END:VTIMEZONE
BEGIN:VEVENT
DTSTART;TZID=Europe/Helsinki:20200611T180000
DTEND;TZID=Europe/Helsinki:20200611T193000
DTSTAMP:20260421T151314
CREATED:20200519T121857Z
LAST-MODIFIED:20200531T120444Z
UID:10002289-1591898400-1591903800@www.ls37.fi
SUMMARY:Nuorten ryhmä - suunnistusharjoitus
DESCRIPTION:Harjoituksen kulku – 15min alkuverryttely\, 20min nopeus ja maastojuoksuvedot\, 45min Suunnistus – SM-ryhmä suunnistusvedot hajonnoin. Tsempit – Suunta ja suoraviivainen kulkeminen maastossa. \nRata ja kartta – Kukonkoivu 1:10000/5m \nTavoite taidollinen – Suunta ja suoraviivainen eteneminen maastossa. \n1. Kartan suuntaus \n2. Rastiväliviivan suuntaan kulkeminen \n3. Katse mahdollisimman kauas \n4. Kartan suuntauksen varmistaminen \nTavoite fyysinen – Maastojuoksutaitavuuden ja hapenoton kehittäminen. \nPaikalla olevat koutsit – Allu (SM-ryhmä)
URL:https://www.ls37.fi/tapahtuma/nuorten-ryhma-suunnistusharjoitus-2-2020-06-11/
LOCATION:Kukonkoivu\, Juoksijantie 28\, Hollola
CATEGORIES:Nuoret,Tsempit Pro
ATTACH;FMTTYPE=image/png:https://www.ls37.fi/wp-content/uploads/2020/05/Screenshot-503.png
END:VEVENT
END:VCALENDAR