BEGIN:VCALENDAR
VERSION:2.0
PRODID:-//Lahden Suunnistajat -37 - ECPv6.15.20//NONSGML v1.0//EN
CALSCALE:GREGORIAN
METHOD:PUBLISH
X-ORIGINAL-URL:https://www.ls37.fi
X-WR-CALDESC:Tapahtumat Lahden Suunnistajat -37
REFRESH-INTERVAL;VALUE=DURATION:PT1H
X-Robots-Tag:noindex
X-PUBLISHED-TTL:PT1H
BEGIN:VTIMEZONE
TZID:Europe/Helsinki
BEGIN:DAYLIGHT
TZOFFSETFROM:+0200
TZOFFSETTO:+0300
TZNAME:EEST
DTSTART:20250330T010000
END:DAYLIGHT
BEGIN:STANDARD
TZOFFSETFROM:+0300
TZOFFSETTO:+0200
TZNAME:EET
DTSTART:20251026T010000
END:STANDARD
BEGIN:DAYLIGHT
TZOFFSETFROM:+0200
TZOFFSETTO:+0300
TZNAME:EEST
DTSTART:20260329T010000
END:DAYLIGHT
BEGIN:STANDARD
TZOFFSETFROM:+0300
TZOFFSETTO:+0200
TZNAME:EET
DTSTART:20261025T010000
END:STANDARD
BEGIN:DAYLIGHT
TZOFFSETFROM:+0200
TZOFFSETTO:+0300
TZNAME:EEST
DTSTART:20270328T010000
END:DAYLIGHT
BEGIN:STANDARD
TZOFFSETFROM:+0300
TZOFFSETTO:+0200
TZNAME:EET
DTSTART:20271031T010000
END:STANDARD
END:VTIMEZONE
BEGIN:VEVENT
DTSTART;TZID=Europe/Helsinki:20260110T130000
DTEND;TZID=Europe/Helsinki:20260110T150000
DTSTAMP:20260421T180700
CREATED:20260106T111756Z
LAST-MODIFIED:20260109T100835Z
UID:10006916-1768050000-1768057200@www.ls37.fi
SUMMARY:Hiihtosuunnistusharjoitus
DESCRIPTION:Avoin hiihtosuunnistusharjoitus Lahden ensilumenladulla (Vaskelaisenrinne 9\, Lahti) lauantaina 10.1.2026. Karttoja jaossa CustomSki-myymälän luona klo 13-15. \nKartta: Hiihtosuunnistusurakuvaus\, mittakaava 1:5000 \nRadat: 2\,9km ja 2\,8km (linnuntietä) Voi siis käydä joko yhden tai molemmat radat. \nLumitilanne: Keskiviikkona 7.1. sateli hieman pakkaslunta lisää\, mutta edelleen lunta on max. n. 15cm. Ensilumenlatu on erinomaisessa kunnossa. Muuten käytössä yhteiskäyttöpolku ja ajamattomia latu-uria\, joilla voi olla paikoitellen hiekkaa tai kiviä. Katso kuvat alla. Ykköskalustoa ei siis missään nimessä kannata alle laittaa! Varovaisuutta ja huomioittehan myös muut alueella liikkuvat. Harjoitukseen osallistutaan omalla vastuulla. Perjantaina 9.1. otettuja kuvia harjoitusmaastosta sivun alaosasta. \nUrat: Karttaan on merkattu vain selvimmät/isoimmat urat. Ensilumenlatu on merkattu yhtenäisellä vihreällä viivalla\, ajamattomat luistelubaanat sekä yhteiskäyttöpolku on merkattu vihreällä katkoviivalla\, hiihdetyt urat on merkattu vihreällä pisteviivalla. Hiekoitetut tiet on merkitty karttaan V-symbolilla. \nRastit: Rasteilla on isot rastiliput ja laminoitu koodi LS-37 logolla. \nIlmoittautuminen: Karttojen tulostusmäärän varmistamiseksi pyydämme ennakkoilmoittautumista perjantaihin 9.1. mennessä: https://forms.gle/iTQjumDgcCzCtFaj9 Kaikkien ennakkoon ilmoittautuneiden kesken arvotaan CustomSkin lahjoittamia tuotepalkintoja. \nKarttamaksusuositus 5€. Alle 14v. lapset ja LS-37 nuoret maksutta. Tuotot ohjataan lyhentämättömästi LS-37 hisunuorille. Mobilepay lyhytnumero 4379BQ \nKIITOS TUESTA!\n \nKuvia harjoitusmaastosta 9.1.2026 \nVihreällä pisteviivalla merkattu hiihdetty ura.\nVihreällä katkoviivalla merkattu ajamaton latu-ura.\nEnsilumenlatu on merkattu karttaan yhtenäisellä vihreällä viivalla. Varovaisuutta penkereessä\, kun poikkeat katko-/pisteurille.\n \n  \nLähtöpaikka (kuva otettu 5.1.2026)\nEnsilumenlatu ja maali (kuva otettu 5.1.2026)\n  \n  \n  \n  \n  \n  \n  \n  \n  \n  \n 
URL:https://www.ls37.fi/tapahtuma/hiihtosuunnistusharjoitus-2/
LOCATION:Ensilumenlatu\, Vaskelaisenrinne 9\, Lahti\, Finland
CATEGORIES:Taitoharjoitus,Yleinen
ATTACH;FMTTYPE=image/jpeg:https://www.ls37.fi/wp-content/uploads/2026/01/IMG_20260105_105003843_HDR_AE.jpg
END:VEVENT
END:VCALENDAR